{"text_format":"1","workbook":"xlsx","n_sheets":1,"sheets":["01.07.16"],"not_rendered":{"charts":0,"images":0,"macros":0,"external_links":0,"defined_names":27,"comments":0,"pivot_tables":0},"unopened":[],"bounds":{"document_bytes":16777216,"sheet_cells":100000,"rows_first":2000,"rows_last":500,"rows_between":2000,"halvings":0,"cell_chars":16384,"cell_head_chars":4096},"cells_cut":0,"cells_raw":0,"read":"whole","date_system":"1900"}

{"sheet":"01.07.16","index":0,"n_rows":48,"n_cols":137,"rows_kept":48,"cut":false,"hidden":false,"merged":[[1,136,2,136],[1,126,1,127],[1,134,1,135],[1,71,1,72],[1,130,1,131],[1,114,1,115],[1,108,1,109],[1,118,1,119],[1,132,1,133],[1,110,1,113],[1,0,2,0],[1,1,1,8],[1,16,1,20],[1,9,1,15],[1,128,1,129],[1,124,1,125],[1,122,1,123],[1,116,1,117],[1,120,1,121],[1,26,1,30],[1,31,1,35],[1,21,1,25],[1,36,1,40],[1,104,1,107],[1,100,1,103],[1,81,1,86],[1,45,1,48],[1,41,1,44],[1,91,1,92],[1,93,1,99],[1,87,1,90],[1,49,1,52],[1,53,1,58],[1,75,1,80],[1,73,1,74],[1,59,1,64],[1,65,1,70]]}
["Мониторинг оценки  качества организации и осуществления бюджетного процесса по итогам исполнения местных бюджетов за 1 полугодие 2016 год"]
["Муниципальное образование","Р 1 \"Соблюдение требований статьи 92.1 Бюджетного кодекса Российской Федерации по предельному объему дефицита бюджета муниципального образования                                                                                                                                                      за отчетный период",null,null,null,null,null,null,null,"Р2 Соблюдение требований статьи 107 Бюджетного кодекса Российской Федерации по предельному объему муниципального долга                                                                                                  за отчетный период",null,null,null,null,null,null,"Р3 Соблюдение верхнего предела муниципального долга, установленного решением о бюджете на соответствующий финансовый год                        за отчетный год",null,null,null,null,"Р4 Соблюдение установленных Правительством Кировской области нормативов формирования расходов на содержание органов местного самоуправления     за отчетный период",null,null,null,null,"Р5 Соблюдение установленных Правительством Кировской области нормативов формирования расходов на оплату труда  депутатов, выборных должностных лиц и муниципальных служащих органов местного самоуправления                                                                  за отчетный период",null,null,null,null,"Р6 Сохранение на безопасном уровне долговой нагрузки в бюджете поселения за отчетный год",null,null,null,null,"Р10 Соотношение выплат по муниципальным гарантиям к общему объему предоставленных гарантий                                                            за отчетный период",null,null,null,null,"Р 7 Удельный вес расходов бюджета, формируемых в рамках программ, в общем объеме расходов бюджета муниципального района (городского округа)                                                                                                        за отчетный период",null,null,null,"Р12 Доля автономных учреждений в общем числе муниципальных учреждений                                                                       за отчетный период",null,null,null,"Р 8 Исполнение бюджета поселения налоговым и неналоговым доходам   к  первоначально утвержденному плану                                за отчетный год",null,null,null,"Р 9. Отклонение расходов бюджета в IV квартале от среднего объема расходов за I-III каврталы без учета расходов, произведенных за счет целевых средств, поступивших из областного бюджета за отчетный год",null,null,null,null,null,"Р10 Динамика соотношения объема налоговых и неналоговых доходов бюджета района (городского округа) к объему дотации на выравнивание бюджетной обеспеченности и субсидии  на выравнивание бюджетной обеспеченности  ",null,null,null,null,null,"Р16 Отклонение расходов бюджета в IV квартале от среднего объема расходов за I-Ш кварталы, без учета расходов,\nпроизведенных за счет целевых средств, поступивших из областного бюджета                                                                                                    за отчетный год\n",null,null,null,null,null,"Р11 Наличие фактов нарушения организации бюджетного процесса, установленных в ходе контрольных мероприятий федеральных, областных контрольных и финансовых органов, соответсвующих органов государственного финансвого контроля Кировской области, Кильмезского района за отчетный год",null,"Р12 Наличие просроченной кредиторской задолженности                         за отчетный период",null," Р 18 Динамика удельного веса дебиторской задолженности к объему расходов бюджета                                      за отчетный год",null,null,null,null,null,"Р13 Динамика удельного веса дебиторской задолженности к объему расходов бюджета   за отчетный год",null,null,null,null,null,"Р14 Динамика задолженности по налоговым платежам (без учета пений и штрафных санкций) в бюджет поселений   за отчетный период",null,null,null,"Р15 Наличие фактов использования средств не по целевому назначению                                                 за отчетный период",null,"Р16 Размещение в средствах массовой информации и (или) на официальном сайте администрации муниципального района (городского округа) проекта местного бюджета, решения об утверждении местного бюджета, годового отчета о его исполнении, ежеквартальных сведений о ходе исполнения местного бюджета и о численности муниципальных служащих органов местного самоуправ-ления, работников муниципальных учреж-дений с указанием фактических затрат на их денежное содержание      за отчетный период",null,null,null,null,null,null,"P17 выполнение кассового плана  поступлений доходов по местным налогам за отчетный период",null,null,null,"Р18 Выполнение плановых показателей по привлечению средств самооблажения за отчетный период",null,null,null,"Р19 общественные работы  за отчетный приод",null,"Р20 Выполнение кассового  плана поступлений  доходов от использования имущества находящегося в собственности поселений за отчетный период",null,null,null,"Р22 Проведение мониторинга и оценки качества организации и осуществления бюджетного процесса в городских и сельских поселениях района с формированием публикуемого рейтинга качества управления муниципальными финансами",null,"Р 25 МПА, устанавливающий порядок определения объема и предоставления субсидий из местных бюджетов автономным учреждениям ",null,"Р21 Своевременность предоставления бюджетной отчесности по перечню форм, входящих в состав месячной, квартально и годовой отчетности за отчетный период",null,"Р22 Составление проекта бюджета на очередной финансовый год и плановый период за отчетный год",null,"Р23 Проведение оценки эффективности реализации долгосрочных целевых программ и размещение ее результатов в официальных средствах массовой информации и или на сайте за отчетный год",null,"Р24 МПА, устанавливающий порядок разработки, утверждения и реализации ведомствен-ных целевых программ",null,"Р25 МПА, устанавливающий порядок проведения и критерии оценки эффективности реализации долгосрочных целевых программ ",null,"Р26 МПА, о назначении  проведения публичных слушаний по проекту бюджета ",null,"Р30 МПА, устанавливающий порядок оценки инвестиционных проектов",null,"Р27 Соответсвие положения о бюджетном процессе в поселении действующему бюджетному законадательству ",null,"Р28 МПА, утверждающий программу эффективности бюджетных расходов поселения",null,"ОБЩЕЕ КОЛИЧЕСТВО БАЛЛОВ"]
[null,"Аi- фактический размер  дефицита бюджета  ","Дi– фактический объем доходов бюджета ","Гi – фактический объем безвозмездных поступлений  ","Нi - фактическое поступление налоговых доходов по дополнительным нормативам отчислений ","Средства от продажи акций, снижение остатков средств на счетах, бюджетные кредиты","Расчет целевого значения индикатора","Предельное значение индикатора","Бальная оценка        (1или 0)","Аi - фактический объем муниципального долга","Бi – уточненный годовой план доходов бюджета на конец ","Bi – уточненный годовой план безвозмездных поступлений ","Нi - уточненный годовой план налоговых доходов по дополнительным нормативам отчислений","Расчет целевого значения индикатора","Предельное значение индикатора","Бальная оценка                    (1или 0)","Аi- фактический объем муниципального долга","Bi – верхний предел муниципального долга , установленный решением о бюджете на соответствующий финансовый год","Расчет целевого значения индикатора","Предельное значение индикатора","Бальная оценка                   (1или 0)","Аi - уточненный план расходов на содержание органов местного самоуправления ","Б i – утвержденный Правительством области норматив формирования расходов на содержание органов местного самоуправления","Расчет целевого значения индикатора","Предельное значение индикатора","Бальная оценка                   (1или 0)","Аi – фактические расходы на оплату труда депутатов, выборных должностных лиц и муниципальных служащих органов местного самоуправления ","Б i – утвержденный в установленном порядке норматив формирования расходов на оплату труда депутатов, выборных должностных лиц и муниципальных служащих органов местного самоуправления ","Расчет целевого значения индикатора","Предельное значение индикатора","Бальная оценка                   (1или 0)","Аi – объем мунципального долга на конец отчетного года","Б i – фактический объем доходов бюджета за отчетный финансовый год без учета безвозмедных поступлений и налоговых доходов по дополнительным нормативам отчислений должностных лиц и муниципальных служащих органов местного самоуправления ","Расчет целевого значения индикатора","Предельное значение индикатора","Бальная оценка                   (1или 0)","Аi – фактический объем выплат по муниципальным гарантиям в i-м муниципальном районе (городском округе) на конец отчетного периода","Бi – фактический объем предоставленных  муниципальных гарантий в i- муниципальном районе (городском округе) на конец отчетного периода","Расчет целевого значения индикатора","Предельное значение индикатора","Бальная оценка                   (1или 0)","Аi – исполнение бюджета   по расходам, формируемым в рамках муниципальных целевых программ и ведомственных программ, на конец отчетного периода","Бi – исполнение бюджета по расходам на конец отчетного периода, за исключением расходов, осуществляемый за счет целевых межбюджетных трансфертов, предоставляемых из бюджетов другого уровня","Расчет целевого значения индикатора","Бальная оценка                   (2; 1; -1)","Аi – количество автономных учреждений в i-м муниципальном районе (городском округе) на конец отчетного периода","Бi – количество муниципальных учреждений в  i-м муниципальном районе (городском округе) на конец отчетного периода","Расчет целевого значения индикатора","Бальная оценка                   (1или 2)","Аi – исполнение бюджета по налоговым и неналоговым доходам ","Бi – первоначальный план в соответствии с решением о бюджете на отчетный финансовый год по налоговым и неналоговым доходам","Расчет целевого значения индикатора","Бальная оценка            (0; - 1)","А4i - исполнение по расходам i-го поселения в IV квартале текущего финансового года без учета расходов, произведенных за счет целевых средств, поступивших из областного бюджета","А1i - исполнение по расходам i-го поселения в I квартале текущего финансового года без учета расходов, произведенных за счет целевых средств, поступивших из областного бюджета","А2i - исполнение по расходам i-го поселения в II квартале текущего финансового года без учета расходов, произведенных за счет целевых средств, поступивших из областного бюджета","А3i - исполнение по расходам i-го поселения в III квартале текущего финансового года без учета расходов, произведенных за счет целевых средств, поступивших из областного бюджета","Расчет целевого значения индикатора","Бальная оценка","А1.i – уточненный план по налоговым и неналоговым доходам в соответствии с решением о бюджете на конец отчетного года без учета поступлений налоговых доходов по дополнительным нормативам отчислений","В1i – уточненный план по дотации на выравнивание бюджетной обеспеченности, субсидии на выравнивание бюджетной обеспеченности, поступлений налоговых доходов по дополнительным нормативам отчислений  на конец отчетного года","А2i - уточненный план по налоговым и неналоговым доходам на конец года, предшествующего отчетному без учета поступлений налоговых доходов по дополнительным нормативам отчислений","В 2i - уточненный план по дотации на выравнивание бюджетной обеспеченности,  субсидии на выравнивание бюджетной обеспеченности, поступлений налоговых доходов по дополнительным нормативам отчислений на конец года, предшествующего отчетному","Расчет целевого значения индикатора","Бальная оценка","А4i  - исполнение по расходам i-го муниципального района (городского округа) в IV квартале текущего финансового года без учета расходов, произведенных за счет целевых средств, поступивших из областного бюджет","А1i  - исполнение по расходам i-го муниципального района (городского округа) в I квартале текущего финансового года без учета расходов, произведенных за счет целевых средств, поступивших из областного бюджета","А2i - исполнение по расходам i-го муниципального района (городского округа) во II квартале текущего финансового года без учета расходов, произведенных за счет целевых средств, поступивших из областного бюджета","А3i  - исполнение по расходам i-го муниципального района (городского округа) в III квартале текущего финансового года без учета расходов, произведенных за счет целевых средств, поступивших из областного бюджета","Расчет целевого значения индикатора","Бальная оценка","Аi – наличие фактов нарушения организации бюджетного процесса","Бальная оценка (0; -1)","Аi – объем просроченной кредиторской задолженности в i-м муниципальном районе (городском округе) на конец отчетного периода","Бальная оценка","А1i – объем дебиторской задолженности на конец отчетного года в i-м муниципальном районе (городском округе)","В1i – фактический объем расходов бюджета за отчетный год в i-м муниципальном районе (городском округе)","А2i – объем дебиторской задолженности на конец года, предшествующего отчетному, в   i-м муниципальном районе (городском округе)","В2i – фактический объем расходов бюджета за год, предшествующий отчетному, в i-м муниципальном районе (городском округе)","Расчет целевого значения индикатора","Бальная оценка","А1i объем дебиторской задолженности на конец отчетного года в i-том поселении","B1i- фактический объем расходов бюджета за отчетный год в i-том поселении","А2i -объем дебиторской задолженности на конец  года предшествующего отчетному в i-том поселении","B1i- фактический объем расходов бюджета за  года предшествующего отчетном в i-том поселении","Расчет целевого значения индикатора","Бальная оценка","А1i – сумма задолженноси по налоговым платежам (без учета пений и штрафных санкций) в бюджет поселений на конец отчетного периода\n","В1i – сумма задолженноси по налоговым платежам (без учета пений и штрафных санкций) в бюджет поселений на начало года ","Расчет целевого значения индикатора","Бальная оценка","Аi – наличие фактов использования средств не по целевому назначению Количество)","Бальная оценка          (0;-1)","Пi – размещение  проекта местного бюджета (+1)","Бi – размещение решения об утверждении местного бюджета на отчетный финансовый год (+1)","Оi – размещение  годового отчета об  исполнении местного бюджета","Сi – размещение ежеквартальных сведений о ходе исполнения местного бюджета (+1)","Чi – размещение  ежеквартальных сведений о численности муниципальных служащих органов местного самоуправления, работников муниципальных учреждений с указанием фактических затрат на их денежное содержание(+1)","Расчет целевого значения индикатора","Бальная оценка (0;1)","Аi - объем фактически поступивших на конец отчетного периода местных налогов в i-том поселении ","Бi - объем местных налогов в i-том поселении в соответсвии с кассовым планом на отчетный период","Расчет целевого значения индикатора","Бальная оценка (0;1)","Аi - объем фактически поступивших на конец отчетного периода средств самообложения в i-том поселении ","Бi - расчетная сумма средств самообложения граждан, определяемая как произведение суммы платежа на количественный показатель установленный решением ОМСУв i-том поселении и предусмотренная в кассовом плане заотчетный период","Расчет целевого значения индикатора","Бальная оценка (0;1)","Ai - использование общественных работ на территории поселения","Бальная оценка (0;1)","Ai - объем фактически поступивших на конец отчетного периода доходов от использования имущества в i-том поселении","Бi - объем доходов от использования имущества, находящегося в собственности поселения в i-том поселении в соответсвии с кассовым планом на отчетный период","Расчет целевого значения индикатора","Бальная оценка (0;1)","Аi – наличие муниципального правового акта о порядке проведения мониторинга и оценки качества организации и осуществления бюджетного процесса в городских и сельских поселениях района ","Бальная оценка","Аi – наличие МПА,  устанавливающего порядок определения объема и предоставления субсидий из местных бюджетов автономным учреждениям","Бальная оценка","Ai - наличие фактов нарушения сроков предоставлени бюджетной отчетности","Бальная оценка (0;-1)","Ai - принятие в текущем году проекта на 3 года","Бальная оценка (0;1)","Ai - размещение ее результатов в официальных средствах массовой информации и или на сайте","Бальная оценка (0;1)","Аi – наличие МПА, устанавливающего порядок разработки, утверждения  и реализации ведомственных целевых программ","Бальная оценка","Аi – наличие МПА, устанавливающего порядок проведения и критерии оценки эффективности реализации долгосрочных целевых программ","Бальная оценка","Аi – наличие МПА, содержащего порядок проведения публичных слушаний по проекту бюджета ","Бальная оценка","Аi – наличие МПА, устанавливающего порядок оценки инвестиционных проектов","Бальная оценка","Аi – Соответсвие положения о бюджетном процессе в поселении действующему бюджетному законадательству","Бальная оценка","Аi – наличие МПА, утверждающий программу эффективности бюджетных расходов поселения","Бальная оценка"]
[" 1 Бурашевское с/п",0,null,null,null,null,{"$f":"(B4)/(C4-D4-E4)","v":{"$error":"#DIV/0!"}},"≤0,05",{"$f":"IF(G4<=0.05,1,0)","v":{"$error":"#DIV/0!"}},0,null,null,0,{"$f":"J4/(K4-L4-M4)","v":{"$error":"#DIV/0!"}},"≤0,5",{"$f":"IF(N4<=0.5,1,0)","v":{"$error":"#DIV/0!"}},0,0,0,"≤1,00",{"$f":"IF(Q4>R4,0,1)","v":1},812.5,1026,{"$f":"V4/W4","v":0.79191033138401556},"≤1,00",{"$f":"IF(X4<=1,1,0)","v":1},268.5,617.29999999999995,{"$f":"AA4/AB4","v":0.43495869107403212},"≤1,00",{"$f":"IF(AC4<=1,1,0)","v":1},0,null,{"$f":"AF4/AG4","v":{"$error":"#DIV/0!"}},"≤0,600",{"$f":"IF(AH4<=0.6,1,0)","v":{"$error":"#DIV/0!"}},null,null,0,"≤0",{"$f":"IF(AK4=0,1,0)","v":1},346.8,525,{"$f":"AP4/AQ4","v":0.66057142857142859},{"$f":"IF(AR4>=0.4,2,IF(AR4<0.2,-1,1))","v":2},null,19,{"$f":"AT4/AU4","v":0},{"$f":"IF(AV4>=0.1,2,IF(AV4<0.05,-1,1))","v":-1},110.7,290,{"$f":"AX4/AY4","v":0.38172413793103449},{"$f":"IF(AND(AZ4>=0.95,AZ4<=1.05),1,IF(OR(AND(AZ4>=0.85,AZ4<0.95),AND(AZ4>1.05,AZ4<=1.15)),0.5,0))","v":0},null,247.8,277.2,null,{"$f":"BB4/((BC4+BD4+BE4)/3)","v":0},{"$f":"IF(AND(BF4>=0.7,BF4<=1.3),1,IF(OR(AND(BF4>=0.5,BF4<0.7),AND(BF4>1.5,BF4<0.5)),0.5,0))","v":0},295,449.3,275.7,431.1,{"$f":"(BH4/BI4)/(BJ4/BK4)","v":1.026660502239368},{"$f":"IF(BL4>=1,1,0)","v":1},null,null,null,null,0,{"$f":"IF(AND(BR4>=0.7,BR4<=1.3),1,IF(OR(AND(BR4>=0.5,BR4<0.7),AND(BR4>1.35,BR4<=1.5)),0.5,0))","v":0},null,0,0,{"$f":"IF(BV4>0,-1,0)","v":0},null,null,null,null,{"$f":"(BX4/BY4)/(BZ4/CA4)","v":{"$error":"#DIV/0!"}},{"$f":"IF(CB4<=1,1,0)","v":{"$error":"#DIV/0!"}},0,null,0,null,{"$f":"(CD4/CE4)/(CF4/CG4)","v":{"$error":"#DIV/0!"}},{"$f":"IF(CG4<=1,1,0)","v":1},112.977,106.964,{"$f":"CJ4/CK4","v":1.0562151751991324},{"$f":"IF(CL4<1,1,0)","v":0},null,{"$f":"IF(ISBLANK(CN4),0,-1)","v":0},1,1,0,0,0,{"$f":"CP4+CQ4+CR4+CS4+CT4","v":2},{"$f":"IF(CU4>=5,1,0)","v":0},11.2,24,0,{"$f":"IF(AND(CY4>=0.98,CY4<=1.02),1,0)","v":0},0,0,{"$f":"DA4/DB4","v":{"$error":"#DIV/0!"}},{"$f":"IF(AND(DC4>=0.98,DC4<=1.02),1,0)","v":{"$error":"#DIV/0!"}},0,0,4,4.7,{"$f":"DG4/DH4","v":0.85106382978723405},{"$f":"IF(AND(DI4>=0.98,DI4<=1.02),1,0)","v":0},null,{"$f":"IF(ISBLANK(DK4),0,1)","v":0},null,{"$f":"IF(ISBLANK(DM4),0,0.5)","v":0},null,0,null,null,null,null,null,{"$f":"IF(ISBLANK(DU4),0,0.5)","v":0},null,{"$f":"IF(ISBLANK(DW4),0,0.5)","v":0},null,{"$f":"IF(ISBLANK(DY4),0,0.5)","v":0},null,{"$f":"IF(ISBLANK(EA4),0,0.5)","v":0},null,{"$f":"IF(ISBLANK(EC4),0,-1)","v":0},null,null,{"$f":"U4+Z4+AE4+AS4+BA4+BW4+CM4+CO4+CV4+CZ4+DD4+DF4+DJ4+ED4+BG4+BM4+BU4+CI4+DP4+DR4+DT4+EF4","v":{"$error":"#DIV/0!"}}]
[" 2 Вихаревское с/п",0,null,null,null,null,{"$error":"#DIV/0!"},"≤0,05",{"$f":"IF(G5<=0.05,1,0)","v":{"$error":"#DIV/0!"}},0,null,null,0,{"$error":"#DIV/0!"},"≤0,5",{"$f":"IF(N5<=0.5,1,0)","v":{"$error":"#DIV/0!"}},0,0,0,"≤1,00",1,898.5,1318,0.68171471927162364,"≤1,00",1,388.1,767.4,0.50573364607766491,"≤1,00",1,0,null,{"$f":"AF5/AG5","v":{"$error":"#DIV/0!"}},"≤60,00",{"$f":"IF(AH5<=0.6,1,0)","v":{"$error":"#DIV/0!"}},null,null,0,"≤0",1,890.8,1114,0.79964093357271093,{"$f":"IF(AR5>=0.4,2,IF(AR5<0.2,-1,1))","v":2},null,44,0,-1,247.7,665.7,{"$f":"AX5/AY5","v":0.3720895298182364},0,null,503.1,610.9,null,0,0,665.7,698.9,604,838.2,1.3218258303729893,1,null,null,null,null,0,0,null,0,0,0,null,null,null,null,{"$error":"#DIV/0!"},{"$error":"#DIV/0!"},0,null,0,null,{"$f":"(CD5/CE5)/(CF5/CG5)","v":{"$error":"#DIV/0!"}},1,75.876999999999995,70.866,{"$f":"CJ5/CK5","v":1.070710919199616},{"$f":"IF(CL5<1,1,0)","v":0},null,0,0,2,2,0,0,4,0,16.3,29,0,{"$f":"IF(AND(CY5>=0.98,CY5<=1.02),1,0)","v":0},0,0,{"$f":"DA5/DB5","v":{"$error":"#DIV/0!"}},{"$f":"IF(AND(DC5>=0.98,DC5<=1.02),1,0)","v":{"$error":"#DIV/0!"}},0,0,0,0,{"$error":"#DIV/0!"},{"$error":"#DIV/0!"},null,0,null,0,null,0,null,null,null,null,null,0,null,0,null,0,null,0,null,{"$f":"IF(ISBLANK(EC5),0,-1)","v":0},null,null,{"$f":"U5+Z5+AE5+AS5+BA5+BW5+CM5+CO5+CV5+CZ5+DD5+DF5+DJ5+ED5+BG5+BM5+BU5+CI5+DP5+DR5+DT5+EF5","v":{"$error":"#DIV/0!"}}]
[" 3 Дамаскинское с/п",0,null,null,null,null,{"$error":"#DIV/0!"},"≤0,05",{"$error":"#DIV/0!"},0,null,null,0,{"$error":"#DIV/0!"},"≤0,5",{"$f":"IF(N6<=0.5,1,0)","v":{"$error":"#DIV/0!"}},0,0,0,"≤1,00",1,996.3,1168,0.85299657534246576,"≤1,00",1,355.3,733.9,0.4841259027115411,"≤1,00",1,0,null,{"$error":"#DIV/0!"},"≤60,00",{"$error":"#DIV/0!"},null,null,0,"≤0",1,450.1,629.1,0.71546653950087424,2,null,37,0,-1,202,509,{"$f":"AX6/AY6","v":0.39685658153241649},{"$f":"IF(AND(AZ6>=0.95,AZ6<=1.05),1,IF(OR(AND(AZ6>=0.85,AZ6<0.95),AND(AZ6>1.05,AZ6<=1.15)),0.5,0))","v":0},null,329.6,299.5,null,0,0,509,474.7,367.9,330.3,0.96266977504225359,0,null,null,null,null,0,0,null,0,0,0,null,null,null,null,{"$error":"#DIV/0!"},{"$error":"#DIV/0!"},0,null,0,null,{"$f":"(CD6/CE6)/(CF6/CG6)","v":{"$error":"#DIV/0!"}},1,92.49,97.088999999999999,0.95263109106077926,1,null,0,2,2,2,0,0,6,1,5,0,0,0,0,0,0,{"$f":"IF(AND(DC6>=0.98,DC6<=1.02),1,0)","v":0},0,1,4,6.8,{"$f":"DG6/DH6","v":0.58823529411764708},{"$f":"IF(AND(DI6>=0.98,DI6<=1.02),1,0)","v":0},null,0,null,0,null,0,null,null,null,null,null,0,null,0,null,{"$f":"IF(ISBLANK(DY6),0,0.5)","v":0},"от  02.02.10 №52",0.5,null,0,null,null,9]
[" 4 Зимнякское с/п",0,null,null,null,null,{"$error":"#DIV/0!"},"≤0,05",{"$error":"#DIV/0!"},0,null,null,0,{"$error":"#DIV/0!"},"≤0,5",{"$f":"IF(N7<=0.5,1,0)","v":{"$error":"#DIV/0!"}},0,0,0,"≤1,00",1,870,1018,0.85461689587426326,"≤1,00",1,316.60000000000002,634.79999999999995,0.49873976055450542,"≤1,00",1,0,null,{"$error":"#DIV/0!"},"≤0,600",{"$error":"#DIV/0!"},null,null,0,"≤0",1,416.3,563.6,{"$f":"AP7/AQ7","v":0.73864442867281754},2,null,17,0,-1,265.10000000000002,361.6,{"$f":"AX7/AY7","v":0.73313053097345138},0,null,289.60000000000002,274,null,0,0,447.4,425.9,313.2,379,1.2711763264750449,1,null,null,null,null,0,0,null,0,0,0,null,null,null,null,{"$error":"#DIV/0!"},{"$error":"#DIV/0!"},0,null,0,null,{"$error":"#DIV/0!"},1,22.292000000000002,17.509,1.2731737963333143,0,null,0,1,1,1,0,0,{"$f":"CP7+CQ7+CR7+CS7+CT7","v":3},{"$f":"IF(CU7>=5,1,0)","v":0},18.5,0,0,0,42,42,{"$f":"DA7/DB7","v":1},{"$f":"IF(AND(DC7>=0.98,DC7<=1.02),1,0)","v":1},0,0,0.5,0,{"$f":"DG7/DH7","v":{"$error":"#DIV/0!"}},{"$f":"IF(AND(DI7>=0.98,DI7<=1.02),1,0)","v":{"$error":"#DIV/0!"}},null,0,null,0,null,0,null,null,null,null,null,0,null,0,null,{"$f":"IF(ISBLANK(DY7),0,0.5)","v":0},null,0,null,0,null,null,{"$error":"#DIV/0!"}]
[" 5 М-Кильмезское с/п",0,null,null,null,null,{"$error":"#DIV/0!"},"≤0,05",{"$error":"#DIV/0!"},0,null,null,0,{"$error":"#DIV/0!"},"≤0,05",{"$f":"IF(N8<=1,1,0)","v":{"$error":"#DIV/0!"}},0,0,0,"≤1,00",1,1142.4000000000001,1311,0.87139588100686505,"≤1,00",1,370.1,799.5,0.46291432145090683,"≤1,00",1,0,null,{"$error":"#DIV/0!"},"≤0,600",{"$error":"#DIV/0!"},null,null,0,"≤0",1,586.5,774.1,0.75765404986435858,2,null,58,0,-1,381.2,840.3,{"$f":"AX8/AY8","v":0.45364750684279426},0,null,400.6,373.5,null,0,0,840.3,666,708.2,911.2,1.6233715217618068,1,null,null,null,null,0,0,null,0,0,0,null,null,null,null,{"$error":"#DIV/0!"},{"$error":"#DIV/0!"},0,null,0,null,{"$error":"#DIV/0!"},1,314.11500000000001,366.57900000000001,0.85688214545841412,1,null,0,1,1,1,1,1,5,1,22.9,20,{"$f":"CW8/CX8","v":1.145},0,1.8,0,0,0,0,1,0,0,{"$error":"#DIV/0!"},{"$error":"#DIV/0!"},null,0,null,0,null,0,null,null,null,null,null,0,null,0,null,0,null,0,null,0,null,null,{"$error":"#DIV/0!"}]
[" 6 Моторское с/п",0,null,null,null,null,{"$error":"#DIV/0!"},"≤0,05",{"$error":"#DIV/0!"},0,null,null,0,{"$error":"#DIV/0!"},"≤0,5",{"$f":"IF(N9<=0.5,1,0)","v":{"$error":"#DIV/0!"}},0,0,0,"≤1,00",1,1032.7,1321,0.78175624526873588,"≤1,00",1,354.1,767.4,0.4614281991138911,"≤1,00",1,0,null,{"$error":"#DIV/0!"},"≤0,600",{"$error":"#DIV/0!"},null,null,0,"≤0",1,869.3,1035.9000000000001,{"$f":"AP9/AQ9","v":0.83917366541171912},2,null,28,0,-1,408.3,807.8,{"$f":"AX8/AY8","v":0.45364750684279426},0,null,521.1,514.79999999999995,null,0,0,822.8,806.4,621.4,901.6,1.4804250259271181,1,null,null,null,null,0,0,null,0,0,0,null,null,null,null,{"$error":"#DIV/0!"},{"$error":"#DIV/0!"},0,null,0,null,{"$error":"#DIV/0!"},1,64.763999999999996,88.597999999999999,0.73098715546626336,1,null,0,0,1,1,0,0,2,0,106.2,70,0,0,0,0,{"$error":"#DIV/0!"},{"$f":"IF(AND(DC9>=0.98,DC9<=1.02),1,0)","v":{"$error":"#DIV/0!"}},0,0,43,25.8,{"$f":"DG9/DH9","v":1.6666666666666665},0,null,0,"от 27.03.06 №10",0.5,null,0,null,null,null,null,null,0,null,0,null,0,null,0,null,0,null,null,{"$error":"#DIV/0!"}]
[" 7 Паскинское с/п",0,null,null,null,null,{"$error":"#DIV/0!"},"≤0,05",{"$error":"#DIV/0!"},0,null,null,0,{"$error":"#DIV/0!"},"≤0,5",{"$f":"IF(N10<=0.5,1,0)","v":{"$error":"#DIV/0!"}},0,0,0,"≤1,00",1,907.5,1026,0.88450292397660824,"≤1,00",1,297.10000000000002,651.20000000000005,0.45623464373464373,"≤1,00",1,0,null,{"$error":"#DIV/0!"},"≤0,600",{"$error":"#DIV/0!"},null,null,0,"≤0",1,431.9,594.20000000000005,0.72685964321777174,2,null,70,0,-1,163.80000000000001,411.4,{"$f":"AX9/AY9","v":0.50544689279524635},0,null,320.39999999999998,273.8,null,0,0,411.4,430.1,307.60000000000002,389.3,1.2105783909085768,1,null,null,null,null,0,0,null,0,0,0,null,null,null,null,{"$error":"#DIV/0!"},{"$error":"#DIV/0!"},0,null,0,null,{"$error":"#DIV/0!"},1,126.804,104.208,1.216835559649931,0,null,0,0,2,2,0,0,4,0,8.9,0.4,{"$f":"CW10/CX10","v":22.25},0,10.3,37.1,0.27762803234501349,0,2,0,0.3,0.2,1.4999999999999998,0,null,0,null,0,null,0,null,null,null,null,null,0,null,0,null,0,null,0,null,0,null,null,7]
[" 8 Б-Порекское с/п",0,null,null,null,null,{"$error":"#DIV/0!"},"≤0,05",{"$error":"#DIV/0!"},0,null,null,0,{"$error":"#DIV/0!"},"≤0,05",{"$f":"IF(N11<=1,1,0)","v":{"$error":"#DIV/0!"}},0,0,0,"≤1,00",1,1037.2,1395,0.74351254480286744,"≤1,00",1,351,717.8,0.48899414878796327,"≤1,00",1,0,null,{"$error":"#DIV/0!"},"≤0,600",{"$error":"#DIV/0!"},null,null,0,"≤0",1,841.1,1213.8,0.69294776734223107,2,null,24,0,-1,428.7,723.6,{"$f":"AX11/AY11","v":0.5924543946932006},0,null,629.4,584.4,null,0,0,723.6,967.4,686.2,758.2,0.82646704604498977,0,null,null,null,null,0,0,null,0,0,0,null,null,null,null,{"$error":"#DIV/0!"},{"$error":"#DIV/0!"},0,null,0,null,{"$error":"#DIV/0!"},1,299.75799999999998,208.82499999999999,1.4354507362624207,0,null,0,1,1,1,1,1,5,1,19.100000000000001,18.2,0,0,14.8,0,{"$error":"#DIV/0!"},{"$error":"#DIV/0!"},0,0,6.6,8.6,0.76744186046511631,0,null,0,null,0,null,0,null,null,null,null,null,0,null,0,null,0,null,0,null,0,null,null,{"$error":"#DIV/0!"}]
[" 9 Р-Ватажское с/п",0,null,null,null,null,{"$error":"#DIV/0!"},"≤0,05",{"$error":"#DIV/0!"},0,null,null,0,{"$error":"#DIV/0!"},"≤0,05",{"$f":"IF(N12<=1,1,0)","v":{"$error":"#DIV/0!"}},0,0,0,"≤1,00",1,975.6,1456,0.67005494505494512,"≤1,00",1,427.7,859.6,0.49755700325732899,"≤1,00",1,0,null,{"$error":"#DIV/0!"},"≤0,600",{"$error":"#DIV/0!"},null,null,0,"≤0",1,1066.9000000000001,1261.0999999999999,0.84600745381016584,2,null,56,0,-1,409.1,885.4,{"$f":"AX12/AY12","v":0.46205105037271293},0,null,627.9,633.20000000000005,null,0,0,885.4,835.2,587,750.7,1.3557429246052726,1,null,null,null,null,0,0,null,0,0,0,null,null,null,null,{"$error":"#DIV/0!"},{"$error":"#DIV/0!"},0,null,0,null,{"$error":"#DIV/0!"},1,407.10500000000002,178.774,2.2772047389441417,0,null,0,1,1,1,2,2,7,1,50.1,29.1,{"$f":"CW12/CX12","v":1.7216494845360824},0,0,0,{"$f":"DA12/DB12","v":{"$error":"#DIV/0!"}},{"$error":"#DIV/0!"},0,0,7.4,8,{"$f":"DG12/DH12","v":0.92500000000000004},{"$f":"IF(AND(DI12>=0.98,DI12<=1.02),1,0)","v":0},null,0,null,0,null,0,null,null,null,null,null,0,null,0,null,{"$f":"IF(ISBLANK(DY12),0,0.5)","v":0},"15.01.10 №6",0.5,null,0,null,null,{"$error":"#DIV/0!"}]
["10 Селинское с/п",0,null,null,null,null,{"$error":"#DIV/0!"},"≤0,05",{"$error":"#DIV/0!"},0,null,null,0,{"$error":"#DIV/0!"},"≤0,5",{"$f":"IF(N13<=0.5,1,0)","v":{"$error":"#DIV/0!"}},0,0,0,"≤1,00",{"$f":"IF(Q13>R13,0,1)","v":1},778.9,1018,0.76512770137524555,"≤1,00",1,304,626.20000000000005,0.48546790162887254,"≤1,00",1,0,null,{"$error":"#DIV/0!"},"≤0,600",{"$error":"#DIV/0!"},null,null,0,"≤0",1,687.3,860.2,0.79900023250406871,2,null,44,0,-1,233.1,519.6,{"$f":"AX13/AY13","v":0.44861431870669743},0,null,343.5,516.70000000000005,null,0,0,519.6,766.8,361.3,362.4,0.67968434279447332,0,null,null,null,null,0,0,null,0,0,0,null,null,null,null,{"$error":"#DIV/0!"},{"$error":"#DIV/0!"},0,null,0,null,{"$error":"#DIV/0!"},1,38.99,46.997,0.82962742302700176,1,null,0,0,0,2,4,4,{"$f":"CP13+CQ13+CR13+CS13+CT13","v":10},1,15.5,0,0,0,0,0,{"$f":"DA13/DB13","v":{"$error":"#DIV/0!"}},{"$f":"IF(AND(DC13>=0.98,DC13<=1.02),1,0)","v":{"$error":"#DIV/0!"}},0,0,18.2,29.8,{"$f":"DG13/DH13","v":0.61073825503355705},{"$f":"IF(AND(DI13>=0.98,DI13<=1.02),1,0)","v":0},null,0,null,0,null,0,null,null,null,null,null,0,null,0,null,0,null,0,null,0,null,null,{"$error":"#DIV/0!"}]
["11Чернушское с/п",0,null,null,null,null,{"$error":"#DIV/0!"},"≤0,05",{"$error":"#DIV/0!"},0,null,null,0,{"$error":"#DIV/0!"},"≤0,5",{"$f":"IF(N14<=0.5,1,0)","v":{"$error":"#DIV/0!"}},0,0,0,"≤1,00",1,1030.5,1170,0.88076923076923075,"≤1,00",1,362.3,729.9,0.49636936566652967,"≤1,00",1,0,null,{"$error":"#DIV/0!"},"≤0,600",{"$error":"#DIV/0!"},null,null,0,"≤0",1,419.5,618.1,0.67869276816049184,2,null,52,0,-1,197.9,419.2,{"$f":"AX14/AY14","v":0.47208969465648859},0,null,278.8,339.3,null,0,0,395.6,574.29999999999995,396.3,455,0.7908694339583513,0,null,null,null,null,0,0,null,0,0,0,null,null,null,null,{"$error":"#DIV/0!"},{"$error":"#DIV/0!"},0,null,0,null,{"$error":"#DIV/0!"},1,32.718000000000004,57.545999999999999,0.56855385257011792,1,null,0,1,1,1,1,1,{"$f":"CP14+CQ14+CR14+CS14+CT14","v":5},1,2.1,0,0,0,0,0,{"$error":"#DIV/0!"},{"$error":"#DIV/0!"},0,1,10.1,15.9,{"$f":"DG14/DH14","v":0.63522012578616349},{"$f":"IF(AND(DI14>=0.98,DI14<=1.02),1,0)","v":0},null,0,"от 09.03.10 №31",0.5,null,0,null,null,null,null,null,0,null,0,null,0,"10.03.10 №32а",0.5,null,0,null,null,{"$error":"#DIV/0!"}]
["12 гор. пос. пгт Кильмезь",0,null,null,null,null,{"$error":"#DIV/0!"},"≤0,10",{"$f":"IF(G15<=0.1,1,0)","v":{"$error":"#DIV/0!"}},0,null,null,0,{"$error":"#DIV/0!"},"≤1,00",{"$f":"IF(N15<=1,1,0)","v":{"$error":"#DIV/0!"}},0,0,0,"≤1,00",1,2683.7,0,{"$error":"#DIV/0!"},"≤1,00",{"$error":"#DIV/0!"},933.2,1765.4,0.52860541520335336,"≤1,00",1,0,null,{"$error":"#DIV/0!"},"≤0,600",{"$error":"#DIV/0!"},null,null,0,"≤0",1,3686.9,3501.2,{"$f":"AP15/AQ15","v":1.0530389580715185},2,null,43,0,-1,3252.1,9266.6,{"$f":"AX15/AY15","v":0.35094856797530916},0,null,1596.3,1904.9,null,0,0,9666.6,0,9175.4,0,0,1,null,null,null,null,0,0,null,0,0,0,null,null,null,null,{"$error":"#DIV/0!"},{"$error":"#DIV/0!"},0,null,0,null,{"$error":"#DIV/0!"},1,5204.8969999999999,3751.6480000000001,1.3873628336133879,0,null,0,1,1,1,1,1,5,1,361,490,{"$f":"CW15/CX15","v":0.73673469387755097},0,0,0,0,0,18,1,298.7,472.1,0.63270493539504336,0,null,0,"14.01.09 №5",0.5,null,0,null,null,null,null,null,0,null,0,null,0,null,0,null,0,null,null,{"$error":"#DIV/0!"}]
["13 Котельнический",null,52808.800000000003,47075.8,null,null,{"$f":"(B16)/(C16-D16-E16)","v":0},"≤0,05",{"$f":"IF(G16<=0.05,1,0)","v":1},3089.13,238254,212460.3,null,{"$f":"J16/(K16-L16-M16)","v":0.119762965375266},"≤0,5",{"$f":"IF(N16<=0.5,1,0)","v":1},3089.13,10000,{"$f":"Q16/R16","v":0.30891299999999999},"≤1,00",{"$f":"IF(Q16>R16,0,1)","v":1},14946.9,16709,{"$f":"V16/W16","v":0.89454186366628763},"≤1,00",{"$f":"IF(X16<=1,1,0)","v":1},2136.4,8064.4,{"$f":"AA16/AB16","v":0.2649174148107733},"≤1,00",{"$f":"IF(AC16<=1,1,0)","v":1},null,null,null,null,null,null,null,0,"≤0",{"$f":"IF(AK16=0,1,0)","v":1},233,13889.8,{"$f":"AP16/AQ16","v":1.6774899566588432E-2},{"$f":"IF(AR16>=0.6,5,IF(AR16<0.3,-1,2))","v":-1},null,44,{"$f":"AT16/AU16","v":0},{"$f":"IF(AV16>=0.1,2,IF(AV16<0.05,-1,1))","v":-1},25793.7,25793.7,{"$f":"AX16/AY16","v":1},{"$f":"IF(AND(AZ16>=0.95,AZ16<=1.05),1,IF(OR(AND(AZ16>=0.85,AZ16<0.95),AND(AZ16>1.05,AZ16<=1.15)),0.5,0))","v":1},null,null,null,null,null,null,25793.7,87584,30030.1,81815,{"$f":"(BH16/BI16)/(BJ16/BK16)","v":0.80235215786636205},{"$f":"IF(BL16>=1,1,0)","v":0},null,null,null,null,0,{"$f":"IF(AND(BR16>=0.7,BR16<=1.3),1,IF(OR(AND(BR16>=0.5,BR16<0.7),AND(BR16>1.35,BR16<=1.5)),0.5,0))","v":0},null,null,null,{"$f":"IF(BV16>0,-1,0)","v":0},null,null,null,null,{"$f":"(BX16/BY16)/(BZ16/CA16)","v":{"$error":"#DIV/0!"}},{"$f":"IF(CB16<=1,1,0)","v":{"$error":"#DIV/0!"}},null,null,null,null,null,null,3089.13,5732.9,{"$f":"(CJ16/CK16)/(#REF!/#REF!)","v":{"$error":"#REF!"}},{"$error":"#REF!"},null,{"$f":"IF(ISBLANK(CN16),0,-1)","v":0},null,1,1,null,null,{"$f":"CP16+CQ16+CR16+CS16+CT16","v":2},{"$f":"IF(CU16>=5,1,0)","v":0},null,null,null,null,null,null,{"$error":"#DIV/0!"},null,null,null,null,null,null,{"$f":"IF(AND(DI16>=0.98,DI16<=1.02),1,0)","v":0},null,{"$f":"IF(ISBLANK(DK16),0,1)","v":0},null,{"$f":"IF(ISBLANK(DM16),0,0.5)","v":0},null,null,null,null,null,null,null,{"$f":"IF(ISBLANK(DU16),0,0.5)","v":0},"19.11.09 №273",{"$f":"IF(ISBLANK(DW16),0,0.5)","v":0.5},"14.12.05 №398",{"$f":"IF(ISBLANK(DY16),0,0.5)","v":0.5},null,{"$f":"IF(ISBLANK(EA16),0,0.5)","v":0},null,{"$f":"IF(ISBLANK(EC16),0,0.5)","v":0},null,null,{"$f":"I16+P16+U16+Z16+AE16+AS16+BA16+BW16+CM16+CO16+CV16+CZ16+DD16+DF16+DJ16+DV16+DX16+DZ16+ED16","v":{"$error":"#REF!"}}]
["14 Куменский",null,56945.9,43953.1,null,null,0,"≤0,05",{"$f":"IF(G17<=0.05,1,0)","v":1},5746.62,275005.5,216813.4,null,9.8752579817535352E-2,"≤0,5",{"$f":"IF(N17<=0.5,1,0)","v":1},5746.62,29096,{"$f":"Q17/R17","v":0.1975054990376684},"≤1,00",1,15332.6,16032,0.956374750499002,"≤1,00",1,1822.7,8368.9,0.21779445327342903,"≤1,00",1,null,null,null,null,null,null,null,0,"≤0",1,269.5,32606.400000000001,8.2652485401638939E-3,-1,null,41,0,-1,58192.1,58201.5,0.99983849213508236,1,null,null,null,null,null,null,58192.1,62621,54105.7,55876,0.95967972565014481,0,null,null,null,null,0,0,null,null,1379.2,-1,null,null,null,null,{"$error":"#DIV/0!"},{"$error":"#DIV/0!"},null,null,null,null,null,null,5746.62,12992.8,{"$f":"(CJ17/CK17)/(#REF!/#REF!)","v":{"$error":"#REF!"}},{"$error":"#REF!"},null,0,null,1,null,null,null,1,0,null,null,null,null,null,null,{"$error":"#DIV/0!"},null,null,null,null,null,null,0," от 05.04.10 №298",1,null,0,null,null,null,null,null,null,"от 29.10.09 №82",0.5,"от 06.10.09 №70",0.5,"от 19.10.05 №29/218",0.5,null,0,null,0,null,null,{"$error":"#REF!"}]
["15 Лебяжский",null,26259.200000000001,22162.5,null,null,0,"≤0,05",{"$f":"IF(G18<=0.05,1,0)","v":1},null,126792.1,110378.7,null,0,"≤0,5",{"$f":"IF(N18<=0.5,1,0)","v":1},null,0,0,"≤1,00",1,11607.6,13672,0.84900526623756589,"≤1,00",1,1526.1,6356.8,0.24007362194814999,"≤1,00",1,null,null,null,null,null,null,null,0,"≤0",1,105.8,2450.4,4.3176624224616385E-2,-1,null,38,0,-1,16413.400000000001,16413.400000000001,1,1,null,null,null,null,null,null,16413.400000000001,42384,14414.9,39878,1.0713178663249332,1,null,null,null,null,0,0,null,null,null,0,null,null,null,null,{"$error":"#DIV/0!"},{"$error":"#DIV/0!"},null,null,null,null,null,null,null,4096.7,0,1,null,0,1,1,null,null,null,2,0,null,null,null,null,null,null,{"$error":"#DIV/0!"},null,null,null,null,null,null,0,null,0,null,0,null,null,null,null,null,null,"05.12.08 №237",0.5,"17.10.08 №219",0.5,"16.09.05 №345",0.5,null,0,null,0,null,null,7.5]
["16 Лузский",400.4,46954.9,34743.9,null,null,3.2790107280321022E-2,"≤0,10",{"$f":"IF(G19<=0.1,1,0)","v":1},2100,208485.9,155158,null,3.9379011736820693E-2,"≤1,00",{"$f":"IF(N19<=1,1,0)","v":1},2100,7000,{"$f":"Q19/R19","v":0.3},"≤1,00",1,16373,17115,0.95664621676891615,"≤1,00",1,1912,9199.9,0.20782834596028218,"≤1,00",1,null,null,null,null,null,null,null,0,"≤0",1,54.3,23502,2.3104416645391879E-3,-1,null,44,0,-1,53327.9,54132.9,0.98512919130510279,1,null,null,null,null,null,null,53327.9,75182,52156.9,53944,0.73362138615239147,0,null,null,null,null,0,0,null,null,null,0,null,null,null,null,{"$error":"#DIV/0!"},{"$error":"#DIV/0!"},null,null,null,null,null,null,2100,12211,"более 1",0,1,-1,1,1,1,null,null,3,0,null,null,null,null,null,null,{"$error":"#DIV/0!"},null,null,null,null,null,null,0,"12.04.10 №340",1,"13.04.10 №353",0.5,null,null,null,null,null,null,"18.05.09 № 47",0.5,"18.05.09 №46",0.5,"11.03.10 №213",0.5,"16.04.10 № 371",0.5,null,0,null,null,5.5]
["17 Малмыжский",null,70842,57668.1,null,null,0,"≤0,05",{"$f":"IF(G20<=0.05,1,0)","v":1},null,336531.6,283748,null,0,"≤0,5",{"$f":"IF(N20<=0.5,1,0)","v":1},null,1128,0,"≤1,00",1,13215.6,16755,0.78875559534467321,"≤1,00",1,1780.4,7927,0.224599470165258,"≤1,00",1,null,null,null,null,null,null,null,0,"≤0",1,10,33966.300000000003,2.944094587870919E-4,-1,null,108,0,-1,52783.6,52521.599999999999,1.0049884238103941,1,null,null,null,null,null,null,52783.6,62023,50374.1,53838,0.90955267692205677,0,null,null,null,null,0,0,null,null,null,0,null,null,null,null,{"$error":"#DIV/0!"},{"$error":"#DIV/0!"},null,null,null,null,null,null,null,13173.9,0,1,null,0,1,1,1,1,1,5,1,null,null,null,null,null,null,{"$error":"#DIV/0!"},null,null,null,null,null,null,0,"14.04.10 №216",1,null,0,null,null,null,null,null,null,"21.12.09 №435",0.5,"21.12.09 №435",0.5,"24.11.05 №6",0.5,null,0,null,0,null,null,8.5]
["18 Мурашинский",null,33163.4,22328.9,null,null,0,"≤0,10",{"$f":"IF(G21<=0.1,1,0)","v":1},1077,149443.6,103415.5,null,2.3398749894086437E-2,"≤1,00",{"$f":"IF(N21<=1,1,0)","v":1},1077,3000,0.35899999999999999,"≤1,00",1,11860,15663,0.75719849326438105,"≤1,00",1,1820.8,8278.4,0.21994588326246617,"≤1,00",1,null,null,null,null,null,null,null,0,"≤0",1,13.1,16448.400000000001,7.9643004790739516E-4,-1,null,22,0,-1,46028.1,46028.07,1.0000006517761879,1,null,null,null,null,null,null,46028.1,34470,46628.3,25028,0.71673453158105271,0,null,null,null,null,0,0,null,null,null,0,null,null,null,null,{"$error":"#DIV/0!"},{"$error":"#DIV/0!"},null,null,null,null,null,null,1077,10834.4,{"$f":"(CJ21/CK21)/(#REF!/#REF!)","v":{"$error":"#REF!"}},{"$error":"#REF!"},null,0,1,1,null,1,1,4,0,null,null,null,null,null,null,{"$error":"#DIV/0!"},null,null,null,null,null,null,0,null,0,"15.04.10. №349",0.5,null,null,null,null,null,null,"14.04.10 № 335",0.5,"24.07.08 №42",0.5,"10.08.05 №34",0.5,null,0,null,0,null,null,{"$error":"#REF!"}]
["19 Нагорский",null,33999.599999999999,27199.1,null,null,0,"≤0,10",{"$f":"IF(G22<=0.1,1,0)","v":1},2757.1,176131.6,151238.20000000001,null,0.11075626471273513,"≤1,00",{"$f":"IF(N22<=1,1,0)","v":1},2757.1,2800.1,0.98464340559265739,"≤1,00",1,14379.3,16466,0.87327219725494953,"≤1,00",1,1894.7,8959.7000000000007,0.21146913401118339,"≤1,00",1,null,null,null,null,null,null,null,0,"≤0",1,35.4,10943.2,3.2348855910519772E-3,-1,null,27,0,-1,24893.4,24898.3,0.99980319941522122,1,null,null,null,null,null,null,24893.4,57774,25782.1,47834,0.79941113119647067,0,null,null,null,null,0,0,null,null,null,0,null,null,null,null,{"$error":"#DIV/0!"},{"$error":"#DIV/0!"},null,null,null,null,null,null,2757.1,6800.4,{"$f":"(CJ22/CK22)/(#REF!/#REF!)","v":{"$error":"#REF!"}},{"$error":"#REF!"},null,0,1,1,null,null,null,2,0,null,null,null,null,null,null,{"$error":"#DIV/0!"},null,null,null,null,null,null,0,null,0,null,0,null,null,null,null,null,null,"от 24.02.10 №17",0.5,"02.04.09 №22",0.5,"от 22.10.08 № 30/4",0.5,"от 05.02.10 № 13",0.5,null,0,null,null,{"$error":"#REF!"}]
["20 Немский",null,98686.6,93601.2,null,null,0,"≤0,05",{"$f":"IF(G23<=0.05,1,0)","v":1},2800,293137.09999999998,271624.09999999998,null,0.13015386045646818,"≤0,5",{"$f":"IF(N23<=0.5,1,0)","v":1},2800,6033,0.46411403944969337,"≤1,00",1,11039,14203,0.77723016264169542,"≤1,00",1,1497,7036.2,0.21275688581905006,"≤1,00",1,null,null,null,null,null,null,null,0,"≤0",1,104.8,10986,9.5394137993810302E-3,-1,null,34,0,-1,21513,21513,1,1,null,null,null,null,null,null,21513,36769,17460,40767,1.3661037157870271,1,null,null,null,null,0,0,null,null,349.4,-1,null,null,null,null,{"$error":"#DIV/0!"},{"$error":"#DIV/0!"},null,null,null,null,null,null,2800,5084.3999999999996,{"$f":"(CJ23/CK23)/(#REF!/#REF!)","v":{"$error":"#REF!"}},{"$error":"#REF!"},null,0,null,1,null,null,null,1,0,null,null,null,null,null,null,{"$error":"#DIV/0!"},null,null,null,null,null,null,0,null,0,null,0,null,null,null,null,null,null,null,0,"10.11.08 №71",0.5,null,0,null,0,null,0,null,null,{"$error":"#REF!"}]
["21 Нолинский",null,84720.9,58775,null,null,0,"≤0,10",{"$f":"IF(G24<=0.1,1,0)","v":1},null,340932.5,278139.5,null,0,"≤1,00",{"$f":"IF(N24<=1,1,0)","v":1},null,10000,0,"≤1,00",1,12819.5,16577,0.77333051818785059,"≤1,00",1,1839.1,7774.8,0.23654627771775477,"≤1,00",1,null,null,null,null,null,null,null,0,"≤0",1,3331.7,28037.8,0.11882886674418107,-1,null,42,0,-1,62792.9,56121.5,1.1188742282369502,0.5,null,null,null,null,null,null,62792.9,57227,75091.399999999994,49360,0.72126442319372464,0,null,null,null,null,0,0,null,null,0.9,-1,null,null,null,null,{"$error":"#DIV/0!"},{"$error":"#DIV/0!"},null,null,null,null,null,null,null,25945.8,0,1,null,0,null,1,null,null,null,1,0,null,null,null,null,null,null,{"$error":"#DIV/0!"},null,null,null,null,null,null,0,null,0,null,0,null,null,null,null,null,null,"12.04.10 №378",0.5,"23.07.08 №363",0.5,"03.10.05 №36/440",0.5,null,0,null,0,null,null,6]
["22 Омутнинский",null,128229.1,98988.5,null,null,0,"≤0,10",{"$f":"IF(G25<=0.1,1,0)","v":1},32000,459136.8,337343.8,null,0.26274088001773499,"≤1,00",{"$f":"IF(N25<=1,1,0)","v":1},32000,97000,0.32989690721649484,"≤1,00",1,17594.400000000001,22034,0.79851139148588557,"≤1,00",1,3096.7,12519.9,0.24734223116798057,"≤1,00",1,null,null,null,null,null,null,null,0,"≤0",1,17558.900000000001,53547.7,0.32791137621223698,2,null,60,0,-1,121793,121793,1,1,null,null,null,null,null,null,121793,107735,123278.2,71717,0.65765986929609521,0,null,null,null,null,0,0,null,null,3015.3,-1,null,null,null,null,{"$error":"#DIV/0!"},{"$error":"#DIV/0!"},null,null,null,null,null,null,32000,29240.6,{"$f":"(CJ25/CK25)/(#REF!/#REF!)","v":{"$error":"#REF!"}},{"$error":"#REF!"},null,0,1,1,null,null,1,3,0,null,null,null,null,null,null,{"$error":"#DIV/0!"},null,null,null,null,null,null,0,"19.04.10 №595",1,null,0,null,null,null,null,null,null,"28.04.08 №23",0.5,"06.04.09 № 23",0.5,"05.10.05 №58",0.5,null,0,null,0,null,null,{"$error":"#REF!"}]
["23 Опаринский",null,40432.400000000001,32547.200000000001,null,null,0,"≤0,05",{"$f":"IF(G26<=0.05,1,0)","v":1},1300,196923.5,164921,null,4.062182641981095E-2,"≤0,5",{"$f":"IF(N26<=0.5,1,0)","v":1},1300,6924.9,0.18772834264754726,"≤1,00",1,15628.7,16120,0.96952233250620357,"≤1,00",1,2402.8000000000002,8827.5,0.27219484565278962,"≤1,00",1,null,null,null,null,null,null,null,0,"≤0",1,110,23325,4.715969989281886E-3,-1,null,57,0,-1,32002.5,31948.9,1.001677679043723,1,null,null,null,null,null,null,32002.5,65567,32685.1,63404,0.94681566006950635,0,null,null,null,null,0,0,null,null,492.7,-1,null,null,null,null,{"$error":"#DIV/0!"},{"$error":"#DIV/0!"},null,null,null,null,null,null,1300,7885.2,"более 1",0,null,0,1,1,1,null,null,3,0,null,null,null,null,null,null,{"$error":"#DIV/0!"},null,null,null,null,null,null,0,null,0,null,0,null,null,null,null,null,null,null,0,"от 22.04.08 № 29/05",0.5,null,0,null,0,null,0,null,null,4.5]
["24 Оричевский",null,87307,61664.4,null,null,0,"≤0,10",{"$f":"IF(G27<=0.1,1,0)","v":1},10038.76,400746.2,287883.2,null,8.8946421767984202E-2,"≤1,00",{"$f":"IF(N27<=1,1,0)","v":1},10038.76,19500,0.51480820512820513,"≤1,00",1,13460.9,17705,0.76028805422197121,"≤1,00",1,2086.1,9001.6,0.23174768929968004,"≤1,00",1,null,null,null,null,null,null,null,0,"≤0",1,834.6,39219.4,2.1280284757033509E-2,-1,null,55,0,-1,112863,111233,1.0146539246446649,1,null,null,null,null,null,null,112863,52062,123822,31996,0.56018131117507319,0,null,null,null,null,0,0,null,null,102.5,-1,null,null,null,null,{"$error":"#DIV/0!"},{"$error":"#DIV/0!"},null,null,null,null,null,null,10038.76,25642.6,{"$f":"(CJ27/CK27)/(#REF!/#REF!)","v":{"$error":"#REF!"}},{"$error":"#REF!"},null,0,null,null,null,1,1,2,0,null,null,null,null,null,null,{"$error":"#DIV/0!"},null,null,null,null,null,null,0,"от 19.04.10 № 135",1,"от 19.04.10 № 133",0.5,null,null,null,null,null,null,"от 02.09.09 № 370",0.5,"от 11.07.08 № 368",0.5,"от  29.05.09 № 37/2",0.5,null,0,null,0,null,null,{"$error":"#REF!"}]
["25 Пижанский",null,40826.699999999997,34887,null,null,0,"≤0,05",{"$f":"IF(G28<=0.05,1,0)","v":1},null,173256.2,148959,null,0,"≤0,5",{"$f":"IF(N28<=0.5,1,0)","v":1},null,0,0,"≤1,00",1,11277.8,14322,0.78744588744588739,"≤1,00",1,1523.4,6475,0.2352741312741313,"≤1,00",1,null,null,null,null,null,null,null,0,"≤0",1,2.7,9401.2999999999993,2.8719432418920792E-4,-1,null,31,0,-1,24297.200000000001,24197.200000000001,1.0041327095697024,1,null,null,null,null,null,null,24297.200000000001,59901,22769.200000000001,53421,0.95167004036360647,0,null,null,null,null,0,0,null,null,null,0,null,null,null,null,{"$error":"#DIV/0!"},{"$error":"#DIV/0!"},null,null,null,null,null,null,null,5939.7,0,1,null,0,1,1,null,null,null,2,0,null,null,null,null,null,null,{"$error":"#DIV/0!"},null,null,null,null,null,null,0,"13.04.10 №54",1,"08.04.10 №52",0.5,null,null,null,null,null,null,"13.04.10 №55",0.5,"05.05.08 №27",0.5,"09.11.05 №36/300",0.5,null,0,null,0,null,null,7.5]
["26 Подосиновский",null,64850.3,54331.8,null,null,0,"≤0,05",{"$f":"IF(G29<=0.05,1,0)","v":1},687.99,240685.1,193064.1,null,1.4447197664895739E-2,"≤0,5",{"$f":"IF(N29<=0.5,1,0)","v":1},687.99,25000,{"$f":"Q29/R29","v":2.7519600000000002E-2},"≤1,00",1,15676,16965,0.92402004126142057,"≤1,00",1,2163.1999999999998,9239.7000000000007,0.23412015541630135,"≤1,00",1,null,null,null,null,null,406.80099999999999,null,406.8,"≤0",0,634.4,29408.2,2.157221455240375E-2,-1,null,38,0,-1,47621,47621,1,1,null,null,null,null,null,null,47621,74123,45939.199999999997,68863,0.96304822114604971,0,null,null,null,null,0,0,null,null,418.8,-1,null,null,null,null,{"$error":"#DIV/0!"},{"$error":"#DIV/0!"},null,null,null,null,null,null,687.99,10518.4,{"$f":"(CJ29/CK29)/(#REF!/#REF!)","v":{"$error":"#REF!"}},{"$error":"#REF!"},null,0,null,null,1,null,null,1,0,null,null,null,null,null,null,{"$error":"#DIV/0!"},null,null,null,null,null,null,0,null,0,"от  30.03.10 № 26",0.5,null,null,null,null,null,null,"от 23.03.09 № 44",0.5,"от 13.10.08 №76",0.5,"от 05.05.05 №43/24",0.5,null,0,null,0,null,null,{"$error":"#REF!"}]
["27 Санчурский",null,34746.1,29886.9,null,null,0,"≤0,05",{"$f":"IF(G30<=0.05,1,0)","v":1},null,172214.8,154556.1,null,0,"≤0,5",{"$f":"IF(N30<=0.5,1,0)","v":1},null,200,{"$f":"Q30/R30","v":0},"≤1,00",1,11468.1,14495,0.7911762676785099,"≤1,00",1,1449.5,6823,0.21244320680052764,"≤1,00",1,null,null,null,null,null,null,null,0,"≤0",1,78.599999999999994,5976.1,1.3152390354913737E-2,-1,null,30,0,-1,17658.7,17717.400000000001,0.99668687279171886,1,null,null,null,null,null,null,17658.7,44557,15853.8,36581,0.91446057057791386,0,null,null,null,null,0,0,null,null,null,0,null,null,null,null,{"$error":"#DIV/0!"},{"$error":"#DIV/0!"},null,null,null,null,null,null,null,4859.2,0,1,null,0,1,1,0,0,0,2,0,null,null,null,null,null,null,{"$error":"#DIV/0!"},null,null,null,null,null,null,0,null,0,null,0,null,null,null,null,null,null,null,0,"20.07.06 №28",0.5,"от 10.08.05 №29/276",0.5,null,0,null,0,null,null,7]
["28 Свечинский",null,21423.1,16469.099999999999,null,null,0,"≤0,10",{"$f":"IF(G31<=0.1,1,0)","v":1},null,120301.7,97187.3,null,0,"≤1,00",{"$f":"IF(N31<=1,1,0)","v":1},null,0,0,"≤1,00",1,11041.4,14322,0.77093981287529667,"≤1,00",1,1714,6887.9,0.24884217250540805,"≤1,00",1,null,null,null,null,null,null,null,0,"≤0",1,0,8321.5,0,-1,null,26,0,-1,23114.400000000001,23364.400000000001,0.98929996062385506,1,null,null,null,null,null,null,23114.400000000001,29276,21694,23323,0.84882011459670592,0,null,null,null,null,0,0,null,null,null,0,null,null,null,null,{"$error":"#DIV/0!"},{"$error":"#DIV/0!"},null,null,null,null,null,null,null,4954.1000000000004,0,1,null,0,1,1,0,0,0,2,0,null,null,null,null,null,null,{"$error":"#DIV/0!"},null,null,null,null,null,null,0,"от 30.03.10 № 196",1,null,0,null,null,null,null,null,null,"от 11.02.2010 № 67",0.5,"05.02.2010 № 56",0.5,"от20.07.05 № 48/263",0.5,null,0,null,0,null,null,7.5]
["29 Слободской",null,96265.4,79886.899999999994,null,null,0,"≤0,05",{"$f":"IF(G32<=0.05,1,0)","v":1},14068.38,469552.1,409698.1,null,0.23504494269388845,"≤0,5",{"$f":"IF(N32<=0.5,1,0)","v":1},14068.38,28600,{"$f":"Q32/R32","v":0.49190139860139859},"≤1,00",1,14806.5,17738,0.83473334085015216,"≤1,00",1,2519.1999999999998,9830.6,0.25626106239700525,"≤1,00",1,null,null,null,null,null,null,null,0,"≤0",1,557.20000000000005,41455.800000000003,1.3440821308477945E-2,-1,null,102,0,-1,59854,57298.1,1.0446070637595313,1,null,null,null,null,null,null,59854,119102,58468.2,97252,0.83589733859167259,0,null,null,null,null,0,0,null,null,2556.9,-1,null,null,null,null,{"$error":"#DIV/0!"},{"$error":"#DIV/0!"},null,null,null,null,null,null,14068.38,16378.5,{"$f":"(CJ32/CK32)/(#REF!/#REF!)","v":{"$error":"#REF!"}},{"$error":"#REF!"},null,0,null,1,null,null,null,1,0,null,null,null,null,null,null,{"$error":"#DIV/0!"},null,null,null,null,null,null,0,null,0,null,0,null,null,null,null,null,null,"19.03.10 №75",0.5,"31.12.08 №405",0.5,"09.08.05 №41/463",0.5,null,0,null,0,null,null,{"$error":"#REF!"}]
["30 Советский",null,75655.3,56842.1,null,null,0,"≤0,10",{"$f":"IF(G33<=0.1,1,0)","v":1},null,362897.9,282834.09999999998,null,0,"≤1,00",{"$f":"IF(N33<=1,1,0)","v":1},null,5323,{"$f":"Q33/R33","v":0},"≤1,00",1,14929.2,17139,0.87106598984771577,"≤1,00",1,1949.8,8019.6,0.24312933313382212,"≤1,00",1,null,null,null,null,null,null,null,0,"≤0",1,950,19678,4.8277263949588374E-2,-1,null,46,0,-1,80063.899999999994,81666.8,0.9803726851058201,1,null,null,null,null,null,null,80063.899999999994,77597,73607.100000000006,71031,0.99568056788780623,0,null,null,null,null,0,0,null,null,null,0,null,null,null,null,{"$error":"#DIV/0!"},{"$error":"#DIV/0!"},null,null,null,null,null,null,null,18813.3,0,1,null,0,1,1,null,null,null,2,0,null,null,null,null,null,null,{"$error":"#DIV/0!"},null,null,null,null,null,null,0,null,0,null,0,null,null,null,null,null,null,"02.04.10 №215",0.5,"04.12.09 №737",0.5,"24.08.06 №74",0.5,null,0,null,0,null,null,7.5]
["31 Сунский",null,22406.7,18100.3,null,null,0,"≤0,05",{"$f":"IF(G34<=0.05,1,0)","v":1},null,139361.70000000001,119527,null,0,"≤0,5",{"$f":"IF(N34<=0.5,1,0)","v":1},null,0,0,"≤1,00",1,11189.7,13382,0.83617545957256023,"≤1,00",1,1518.8,6477.6,0.23446955662591082,"≤1,00",1,null,null,null,null,null,null,null,0,"≤0",1,28.1,11875.1,2.3662958627716818E-3,-1,null,22,0,-1,19834.7,19834.7,1,1,null,null,null,null,null,null,19834.7,27352,16181.6,26911,1.2059933780275507,1,null,null,null,null,0,0,null,null,null,0,null,null,null,null,{"$error":"#DIV/0!"},{"$error":"#DIV/0!"},null,null,null,null,null,null,null,4306.3999999999996,0,1,null,0,1,1,null,null,null,2,0,null,null,null,null,null,null,{"$error":"#DIV/0!"},null,null,null,null,null,null,0,"13.04.10 №34",1,"12.04.10 №32",0.5,null,null,null,null,null,null,"10.03.10 №17",0.5,"29.03.10 №25",0.5,"10.08.05 №36",0.5,"13.04.10 №33",0.5,null,0,null,null,7.5]
["32 Тужинский",null,28148.6,23989.5,null,null,0,"≤0,05",1,564.9,117139.3,99402.1,null,3.1848318787632779E-2,"≤0,5",1,564.9,6864.9,{"$f":"Q35/R35","v":8.2288161517283576E-2},"≤1,00",1,8277.2000000000007,13672,0.6054125219426566,"≤1,00",1,1486.8,6098.1,0.24381364687361634,"≤1,00",1,null,null,null,null,null,null,null,0,"≤0",1,591.6,15041,3.9332491190745299E-2,-1,null,22,0,-1,17737.2,17737.2,1,1,null,null,null,null,null,null,17737.2,36970,20104.8,32817,0.78313157098459485,0,null,null,null,null,0,0,null,null,2508.5,-1,null,null,null,null,{"$error":"#DIV/0!"},{"$error":"#DIV/0!"},null,null,null,null,null,null,564.9,4159.1000000000004,{"$f":"(CJ35/CK35)/(#REF!/#REF!)","v":{"$error":"#REF!"}},{"$error":"#REF!"},null,0,null,null,1,null,null,1,0,null,null,null,null,null,null,{"$error":"#DIV/0!"},null,null,null,null,null,null,0,null,0,null,0,null,null,null,null,null,null,"23.12.09 №590",0.5,"23.12.09 №590",0.5,"09.08.05 №25/275",0.5,null,0,null,0,null,null,{"$error":"#REF!"}]
["33 Унинский",10656.8,34996.300000000003,28654.9,null,{"$f":"6906.8+3750","v":10656.8},{"$f":"(B36-F36)/(C36-D36-E36)","v":0},"≤0,05",1,5050,189589.7,163730.4,null,0.19528757545641207,"≤0,5",1,5050,7300,0.69178082191780821,"≤1,00",1,12712.9,14588,0.8714628461749383,"≤1,00",1,1763.5,8150.8,0.21635913039210874,"≤1,00",1,null,null,null,null,null,null,null,0,"≤0",1,1329.9,20209.2,6.5806662312214242E-2,-1,null,37,0,-1,25859.3,25640.3,1.0085412417171407,1,null,null,null,null,null,null,25859.3,49215,24553.3,45018,0.96337550960687479,0,null,null,null,null,0,0,null,null,null,0,null,null,null,null,{"$error":"#DIV/0!"},{"$error":"#DIV/0!"},null,null,null,null,null,null,5050,6341.3,{"$f":"(CJ36/CK36)/(#REF!/#REF!)","v":{"$error":"#REF!"}},{"$error":"#REF!"},null,0,1,1,1,null,1,4,0,null,null,null,null,null,null,{"$error":"#DIV/0!"},null,null,null,null,null,null,0,null,0,null,0,null,null,null,null,null,null,"31.03.10 №257а",0.5,"24.08.10 №223",0.5,"09.09.05 №223",0.5,null,0,null,0,null,null,{"$error":"#REF!"}]
["34 Уржумский",292.60000000000002,84373.4,66758.7,null,null,{"$f":"(B37)/(C37-D37-E37)","v":1.6611125934588727E-2},"≤0,05",1,null,374669.1,295336.40000000002,null,0,"≤0,5",1,null,5165,0,"≤1,00",1,13559.9,17919,0.75673307662257938,"≤1,00",1,2061.6999999999998,8814.2000000000007,0.2339066506319348,"≤1,00",1,null,null,null,null,null,null,null,0,"≤0",1,801.7,33334.800000000003,2.4049941802560686E-2,-1,null,100,0,-1,79332.7,76568.7,1.0360983012640936,1,null,null,null,null,null,null,79332.7,59272,65979,75250,1.5265232694142767,1,null,null,null,null,0,0,null,null,null,0,null,null,null,null,{"$error":"#DIV/0!"},{"$error":"#DIV/0!"},null,null,null,null,null,null,null,17614.599999999999,0,1,null,0,1,1,1,1,1,5,1,null,null,null,null,null,null,{"$error":"#DIV/0!"},null,null,null,null,null,null,0,"13.04.10 №295",1,null,0,null,null,null,null,null,null,"20.09.07 №883",0.5,"01.09.09 №712",0.5,"28.06.06 №4/30",0.5,"01.02.10 №67",0.5,null,0,null,null,8.5]
["35 Фаленский",null,46901.1,40397.1,null,null,0,"≤0,05",1,680,200979.9,172970.9,null,2.4277910671569852E-2,"≤0,5",1,680,1000,0.68,"≤1,00",1,13171.7,14574,0.90378070536571986,"≤1,00",1,1990.5,7933.9,0.2508854409558981,"≤1,00",1,null,null,null,null,null,null,null,0,"≤0",1,233.8,22965.4,1.018053245316868E-2,-1,null,37,0,-1,28009,28009,1,1,null,null,null,null,null,null,28009,60199,24450,52693,1.0027262592021398,1,null,null,null,null,0,0,null,null,553.70000000000005,-1,null,null,null,null,{"$error":"#DIV/0!"},{"$error":"#DIV/0!"},null,null,null,null,null,null,680,6504,"более 1",0,null,0,1,1,1,null,null,3,0,null,null,null,null,null,null,{"$error":"#DIV/0!"},null,null,null,null,null,null,0,null,0,null,0,null,null,null,null,null,null,"02.04.10 №116",0.5,"17.04.09 №29",0.5,"28.10.05 №31/274",0.5,null,0,null,0,null,null,5.5]
["36 Орловский",null,37581.5,29296.5,null,null,0,"≤0,05",1,607.1,162810.9,126819.8,null,1.6868059047931299E-2,"≤0,5",1,607.1,3962,0.1532306915699142,"≤1,00",1,12565.5,14720,0.85363451086956521,"≤1,00",1,1810.3,8405,0.2153837001784652,"≤1,00",1,null,null,null,null,null,null,null,0,"≤0",1,55.9,14326.9,3.9017512511429547E-3,-1,null,35,0,-1,35991.1,35901.1,1.002506886975608,1,null,null,null,null,null,null,35991.1,56429,31975.8,48957,0.97653124723011919,0,null,null,null,null,0,0,null,null,null,0,null,null,null,null,{"$error":"#DIV/0!"},{"$error":"#DIV/0!"},null,null,null,null,null,null,607.1,8284.9,"более 1",0,9,-1,1,1,1,null,null,3,0,null,null,null,null,null,null,{"$error":"#DIV/0!"},null,null,null,null,null,null,0,null,0,null,0,null,null,null,null,null,null,null,0,"16.07.08 №37-п",0.5,"14.10.05 №35/396",0.5,null,0,null,0,null,null,5]
["37 Шабалинский",null,31924.3,25402.5,null,null,0,"≤0,05",1,null,153677.79999999999,126417,null,0,"≤0,5",1,null,2580,0,"≤1,00",1,15502,15530,0.99819703799098514,"≤1,00",1,1878,7637,0.24590807908864737,"≤1,00",1,null,null,null,null,null,null,null,0,"≤0",1,237.6,4743.7,5.0087484453064067E-2,-1,null,28,0,-1,27260.799999999999,27022.7,1.0088111106588165,1,null,null,null,null,null,null,27260.799999999999,54193,24771.4,38325,0.77826413048932275,0,null,null,null,null,0,0,null,null,null,0,null,null,null,null,{"$error":"#DIV/0!"},{"$error":"#DIV/0!"},null,null,null,null,null,null,null,6521.8,0,1,null,0,1,1,1,1,1,5,1,null,null,null,null,null,null,{"$error":"#DIV/0!"},null,null,null,null,null,null,0,"06.04.10 №222",1,"11.03.10 №140",0.5,null,null,null,null,null,null,"12.05.09 №41",0.5,"13.10.09 №106",0.5,"20.02.06 №41/449",0.5,null,0,"06.04.10 №222",0.5,null,null,9]
["38 Юрьянский",1281.0999999999999,53788.7,39689.9,null,null,9.0865889295542901E-2,"≤0,10",{"$f":"IF(G41<=0.1,1,0)","v":1},6900,286436.90000000002,222416.4,null,0.1077779773666247,"≤1,00",{"$f":"IF(N41<=1,1,0)","v":1},6900,10000,0.69,"≤1,00",1,15672.2,16679,0.93963666886503994,"≤1,00",1,2235.8000000000002,9326.2999999999993,0.23973065417153644,"≤1,00",1,null,null,null,null,null,null,null,0,"≤0",1,276.5,25729.200000000001,1.0746544781804332E-2,-1,null,38,0,-1,64020.5,63772.4,1.0038903977269162,1,null,null,null,null,null,null,64020.5,76593,78337.899999999994,61221,0.65321849886213035,0,null,null,null,null,0,0,null,null,null,0,null,null,null,null,{"$error":"#DIV/0!"},{"$error":"#DIV/0!"},null,null,null,null,null,null,6900,14098.8,{"$f":"(CJ41/CK41)/(#REF!/#REF!)","v":{"$error":"#REF!"}},{"$error":"#REF!"},null,0,1,1,1,1,1,5,1,null,null,null,null,null,null,{"$error":"#DIV/0!"},null,null,null,null,null,null,0,"20.04.10 №104",1,"20.04.10 №103",0.5,null,null,null,null,null,null,"09.04.10 №91",0.5,"26.02.09 №54",0.5,"28.09.05 29/10",0.5,null,0,null,0,null,null,{"$error":"#REF!"}]
["39 Яранский",141.5,68270.899999999994,50088.9,null,null,7.782422175778245E-3,"≤0,10",{"$f":"IF(G42<=0.1,1,0)","v":1},null,323957.8,255031.4,null,0,"≤1,00",{"$f":"IF(N42<=1,1,0)","v":1},null,5146.2,0,"≤1,00",1,14710.4,17404,0.84523098138358999,"≤1,00",1,2090.4,8335.5,0.25078279647291707,"≤1,00",1,null,null,null,null,null,null,null,0,"≤0",1,90.2,32971.4,2.7357042770401012E-3,-1,null,43,0,-1,68926.399999999994,69205.899999999994,0.99596132699668671,1,null,null,null,null,null,null,68926.399999999994,78991,67132.5,67487,0.87719326089757022,0,null,null,null,null,0,0,null,null,null,0,null,null,null,null,{"$error":"#DIV/0!"},{"$error":"#DIV/0!"},null,null,null,null,null,null,null,18182,{"$f":"(CJ42/CK42)/(#REF!/#REF!)","v":{"$error":"#REF!"}},{"$error":"#REF!"},null,0,1,1,null,null,null,2,0,null,null,null,null,null,null,{"$error":"#DIV/0!"},null,null,null,null,null,null,0,null,0,null,0,null,null,null,null,null,null,"31.07.09 №54",0.5,"от 11.08.09 № 60",0.5,"от 27.10.09 №321",0.5,null,0,null,0,null,null,{"$error":"#REF!"}]
["40 ЗАТО",null,35201.800000000003,30585.5,null,null,0,"≤0,05",{"$f":"IF(G43<=0.05,1,0)","v":1},null,168731.9,138933.79999999999,null,0,"≤0,5",{"$f":"IF(N43<=0.5,1,0)","v":1},null,0,0,"≤1,00",1,16482.900000000001,16483,0.99999393314323859,"≤1,00",1,1685,7770.1,0.21685692590828945,"≤1,00",1,null,null,null,null,null,null,null,0,"≤0",1,2228.5,27428.400000000001,8.1247903632731031E-2,-1,null,13,0,-1,29798.1,30901.7,0.96428675445040235,1,null,null,null,null,null,null,29798.1,11155,23009.5,34977,4.0606389322033678,1,null,null,null,null,0,0,null,null,null,0,null,null,null,null,{"$error":"#DIV/0!"},{"$error":"#DIV/0!"},null,null,null,null,null,null,null,4616.3,0,1,1,-1,1,1,1,null,null,3,0,null,null,null,null,null,null,{"$error":"#DIV/0!"},null,null,null,null,null,null,0,null,1,null,0,null,null,null,null,null,null,null,0,"08.02.10 №05",0.5,"25.07.05 №44/7",0.5,null,0,null,0,null,null,6]
["41 г.Вятские Поляны",null,88569.3,46747.7,null,null,0,"≤0,10",{"$f":"IF(G44<=0.1,1,0)","v":1},4365,371537.6,193391.6,null,2.4502374456906138E-2,"≤1,00",{"$f":"IF(N44<=1,1,0)","v":1},4365,6050,{"$f":"Q44/R44","v":0.7214876033057851},"≤1,00",1,16344,19570,0.83515585079202859,"≤1,00",1,2469.6999999999998,10745.1,0.2298443011233027,"≤1,00",1,null,null,null,null,null,null,null,0,"≤0",1,496,52973,9.3632605289487095E-3,-1,1,38,2.6315789473684209E-2,-1,178146,178146,1,1,null,null,null,null,null,null,178146,57255,206874,54169,0.81471847143416176,0,null,null,null,null,0,0,null,null,null,0,null,null,null,null,{"$error":"#DIV/0!"},{"$error":"#DIV/0!"},null,null,null,null,null,null,4365,41821.599999999999,"более 1",0,null,0,1,1,1,1,1,5,1,null,null,null,null,null,null,{"$error":"#DIV/0!"},null,null,null,null,null,null,0,null,1,"08.07.09 №1030",0.5,null,null,null,null,null,null,"16.10.09 №1649",0.5,"16.10.09 №1649",0.5,"20.12.05 №99",0.5,null,0,null,0,null,null,7.5]
["42 г.Кирово-Чепецк",null,170280.7,50544.2,null,null,0,"≤0,10",{"$f":"IF(G45<=0.1,1,0)","v":1},31569.49,876568.4,323835.5,null,5.7115272132344574E-2,"≤1,00",{"$f":"IF(N45<=1,1,0)","v":1},31569.49,73000,{"$f":"Q45/R45","v":0.43245876712328768},"≤1,00",1,41509,41509,1,"≤1,00",1,5552.3,23160.400000000001,0.23973247439595172,"≤1,00",1,null,null,null,null,null,null,2569.4859999999999,{"$f":"AK45/AL45","v":0},"≤0",1,2147.6999999999998,117277.4,1.8312991249806013E-2,-1,2,60,3.3333333333333333E-2,-1,552732.9,552732.9,1,1,null,null,null,null,null,null,552732.9,1236,611539,3245,2.3729434426119287,1,null,null,null,null,0,0,null,null,null,0,null,null,null,null,{"$error":"#DIV/0!"},{"$error":"#DIV/0!"},null,null,null,null,null,null,31569.49,119736.5,"более 1",0,null,0,1,1,null,null,null,2,0,null,null,null,null,null,null,{"$error":"#DIV/0!"},null,null,null,null,null,null,0,null,1,"от 24.03.10 №508;  21.10.09 №1897",0.5,null,null,null,null,null,null,"от 24.04.09 №638",0.5,"от 24.04.09 №638",0.5,"от 23.11.05 №16/108",0.5,null,0,null,0,null,null,6.5]
["43 г.Котельнич",2233.6999999999998,63499.5,32153.4,null,null,7.1259263512845297E-2,"≤0,10",{"$f":"IF(G46<=0.1,1,0)","v":1},null,258669.4,127650.9,null,0,"≤1,00",{"$f":"IF(N46<=1,1,0)","v":1},null,8140,{"$f":"Q46/R46","v":0},"≤1,00",1,13429.5,15214,0.88270671749704221,"≤1,00",1,1685.9,7794.5,0.21629354031689013,"≤1,00",1,null,null,null,null,null,null,null,0,"≤0",1,2976.8,42384.1,7.0233884876640063E-2,-1,null,33,0,-1,131018.5,132623.5,0.98789807236274119,1,null,null,null,null,null,null,131018.5,33267,127167.6,29751,0.92139123737896944,0,null,null,null,null,0,0,null,null,null,0,null,null,null,null,{"$error":"#DIV/0!"},{"$error":"#DIV/0!"},null,null,null,null,null,null,null,31346.2,{"$f":"(CJ46/CK46)/(#REF!/#REF!)","v":{"$error":"#REF!"}},{"$error":"#REF!"},null,0,null,1,null,null,1,2,0,null,null,null,null,null,null,{"$error":"#DIV/0!"},null,null,null,null,null,null,0,null,1,null,0,null,null,null,null,null,null,"01.07.08 №341",0.5,"от 14.05.09 №262",0.5,"28.06.06 №40",0.5,null,0,null,0,null,null,{"$error":"#REF!"}]
["44 г.Слободской",null,138543.70000000001,85561.9,null,null,0,"≤0,10",{"$f":"IF(G47<=0.1,1,0)","v":1},16809.2,550586,326274.90000000002,null,7.493699598459462E-2,"≤1,00",{"$f":"IF(N47<=1,1,0)","v":1},16809.2,24200,{"$f":"Q47/R47","v":0.69459504132231409},"≤1,00",1,17035.099999999999,18379,0.92687850263888127,"≤1,00",1,2405.5,10635.8,0.2261701047405931,"≤1,00",1,null,null,null,null,null,null,5790,{"$f":"AK47/AL47","v":0},"≤0",1,1407.1,60935.6,2.3091591778861616E-2,-1,null,38,0,-1,224311.1,224483.1,0.99923379532802248,1,null,null,null,null,null,null,224311.1,56708,211755.7,43214,0.80722720987945362,0,null,null,null,null,0,0,null,null,null,0,null,null,null,null,{"$error":"#DIV/0!"},{"$error":"#DIV/0!"},null,null,null,null,null,null,16809.2,52981.9,{"$f":"(CJ47/CK47)/(#REF!/#REF!)","v":{"$error":"#REF!"}},{"$error":"#REF!"},null,0,null,1,null,null,null,1,0,null,null,null,null,null,null,{"$error":"#DIV/0!"},null,null,null,null,null,null,0,null,1,null,0,null,null,null,null,null,null,null,0,"23.12.08 №88",0.5,"23.11.05 №63/667",0.5,null,0,null,0,null,null,{"$error":"#REF!"}]
["45 г.Киров",null,1210145.7,258362.4,null,null,0,"≤0,10",{"$f":"IF(G48<=0.1,1,0)","v":1},177757.1,6351273.9000000004,2018343.8,null,4.1024686735657234E-2,"≤1,00",{"$f":"IF(N48<=1,1,0)","v":1},177757.1,440541.3,{"$f":"Q48/R48","v":0.40349701605729138},"≤1,00",1,367531,349243,1.0523646859063747,"≤1,00",0,44120,180898,0.2438943493018165,"≤1,00",1,null,null,null,null,null,null,null,0,"≤0",1,53158.5,876794.6,6.0628224672004141E-2,-1,10,295,3.3898305084745763E-2,-1,4332930.0999999996,4206243,1.0301188257549552,1,null,null,null,null,null,null,4332930.0999999996,7158,4784485,1,1.2651872059952815E-4,0,null,null,null,null,0,0,null,null,3326,-1,null,null,null,null,{"$error":"#DIV/0!"},{"$error":"#DIV/0!"},null,null,null,null,null,null,177757.1,951783.3,{"$f":"(CJ48/CK48)/(#REF!/#REF!)","v":{"$error":"#REF!"}},{"$error":"#REF!"},20,-1,null,null,null,null,null,0,0,null,null,null,null,null,null,{"$error":"#DIV/0!"},null,null,null,null,null,null,0,null,1,"27.06.08 №2455-П",0.5,null,null,null,null,null,null,"13.07.06 № 3045",0.5,"23.06.08 № 2391-П",0.5,"26.04.06 № 53/17",0.5,"12.02.09 № 387-П",0.5,null,0,null,null,{"$error":"#REF!"}]